BEGIN:VCALENDAR
VERSION:2.0
PRODID:-//Yoga - ECPv6.5.1.4//NONSGML v1.0//EN
CALSCALE:GREGORIAN
METHOD:PUBLISH
X-WR-CALNAME:Yoga
X-ORIGINAL-URL:https://yoga.org.mx
X-WR-CALDESC:Eventos para Yoga
REFRESH-INTERVAL;VALUE=DURATION:PT1H
X-Robots-Tag:noindex
X-PUBLISHED-TTL:PT1H
BEGIN:VTIMEZONE
TZID:America/Mexico_City
BEGIN:STANDARD
TZOFFSETFROM:-0600
TZOFFSETTO:-0600
TZNAME:CST
DTSTART:20250101T000000
END:STANDARD
END:VTIMEZONE
BEGIN:VEVENT
DTSTART;TZID=America/Mexico_City:20250501T120000
DTEND;TZID=America/Mexico_City:20250501T120000
DTSTAMP:20260421T123758
CREATED:20250405T010248Z
LAST-MODIFIED:20250405T010248Z
UID:10000400-1746100800-1746100800@yoga.org.mx
SUMMARY:Día Especial de Yoga: Cuerpo y Mente en Calma\, Yoga para Soltar el Estrés
DESCRIPTION:Esta actividad se enfocará en una práctica integral para relajarte cuando necesites. Comenzaremos con un poco de trabajo de respiración para balancear el sistema nervioso y luego realizaremos movimientos conscientes basado en la respiración para descargar el estrés en los tejidos. El siguiente paso es un poco de liberación miofascial para que la espalda alta y las caderas se liberen relajándose\, seguido de un trabajo de respiración en savasana y para terminar una breve meditación. \nAbierto a todo público con cualquier nivel de experiencia.
URL:https://yoga.org.mx/calendario/dia-especial-de-yoga-cuerpo-y-mente-en-calma-yoga-para-soltar-el-estres/
LOCATION:Centro Budista Roma\, Jalapa 94\, CDMX\, CDMX\, 06700\, Mexico
CATEGORIES:Talleres Especiales
ATTACH;FMTTYPE=image/jpeg:https://yoga.org.mx/wp-content/uploads/2025/04/taller-yoga-espalda-01b.jpg
ORGANIZER;CN="Centro Budista Roma":MAILTO:contacto@budismo.com
END:VEVENT
BEGIN:VEVENT
DTSTART;TZID=America/Mexico_City:20250501T160000
DTEND;TZID=America/Mexico_City:20250501T160000
DTSTAMP:20260421T123758
CREATED:20250310T233124Z
LAST-MODIFIED:20250425T205010Z
UID:10000388-1746115200-1746115200@yoga.org.mx
SUMMARY:Retiro de Budismo\, Meditación y Silencio: Un Descanso\, un Momento de Paz
DESCRIPTION:De acuerdo con las enseñanzas del Buda\, nuestras acciones no pueden separarse del estado mental del que surgieron. Ésta es la idea más básica a tener en cuenta cuando hablamos de la meditación o del budismo. Si nuestras acciones están basadas en un cierto descontento interno\, en un futuro éstas acabaran reforzando esos mismos sentimientos de descontento que estamos tratando de evitar. \nLa meditación entonces es una forma a través de la cual podemos llegar a ser cada vez más conscientes de nosotros mismos\, construyendo una base fuerte de emociones positivas de esta manera podremos actuar de manera creativa en el mundo en formas que resultarán de ayuda tanto para nosotros mismos como para otros. \nEn este retiro queremos desconectarnos logrando a través de enseñanzas budistas\, meditaciones y silencio\, un espacio de conexión personal y de reflexión buscando tener no solo un descanso\, si no conectar con este momento presente\, un momento de Paz. \nEste retiro comenzará el jueves 1 de mayo con la cena que se servirá a las 19:00 hrs. (se podrá llegar a 1 de las 16:00 hrs.) y culminará el domingo 4 de mayo de 2025\, después del desayuno a las 10:00 hrs. \nCentro de retiros Chintámani\, Yautepec Morelos\nLee más...\nLugar: \nCalle Los Nardos #16\, Col. Diego Ruíz\, Yautepec\, Morelos.\nmapa para descargar: www.retirosbudistas.com/mapa_chintamani.pdf\nTe recomendamos usar la aplicación Waze para buscar la mejor ruta disponible. \nUbicado en el Valle de Cuautla en Yautepec\, Morelos. Es un amplio espacio específicamente construido para retiros budistas\, cuenta con una Gompa (recinto de meditación en Tibetano) una amplia área de comedor\, cuartos espaciosos\, varias palapas\, alberca y un gran jardín. También cuenta con cabaña para retiros solitarios. Éste centro de retiros fue construido por Dharmacharini Saddhajoti con la visión de ser un lugar para retiros budistas de cualquier tradición. \nQué Llevar? \n1. Ropa cómoda y sencilla por varios días; incluye algo abrigador.\n2. Zapatos de fácil poner y quitar.\n3. Artículos de baño. \n¿Cómo Llegar? \nTomando la desviación “Jojutla-Las Estacas”\, exactamente a 5 km (medidos en el kilometraje del coche) está el Hotel “Villas El Trébol”. Pasando el Hotel\, verás un guarda-ganado* en el suelo; da vuelta a la izquierda en esa calle pasando el guarda-ganado. A 200 m sobre esa calle\, verás a tu derecha una barda de piedra y el portón color óxido de Chintámani\, ¡Llegaste! \n*Nota: Un Guarda-ganado es una reja de rieles paralelos\, sobre el suelo (como una alcantarilla grande)\, que impide el paso al ganado. La distancia del guarda-ganado a la calle en la que hay que doblar a la izquierda\, es de unos 80 m. \nSi tienes problemas para llegar al lugar del retiro o necesitas cualquier otra información favor de llamar al Centro Budista de la Ciudad de México: 5525 0086 (principal) / 5525 4023 \nConsulta la carta del alumno y políticas en www.budismo.org.mx/politicas
URL:https://yoga.org.mx/calendario/retiro-de-budismo-meditacion-y-silencio-un-descanso-un-momento-de-paz/
LOCATION:Centro Budista Roma\, Jalapa 94\, CDMX\, CDMX\, 06700\, Mexico
CATEGORIES:Retiros
ATTACH;FMTTYPE=image/jpeg:https://yoga.org.mx/wp-content/uploads/2025/03/budmed-0004a.jpg
ORGANIZER;CN="Centro Budista Roma":MAILTO:contacto@budismo.com
END:VEVENT
BEGIN:VEVENT
DTSTART;TZID=America/Mexico_City:20250512T170000
DTEND;TZID=America/Mexico_City:20250512T184500
DTSTAMP:20260421T123758
CREATED:20250405T012457Z
LAST-MODIFIED:20250411T231154Z
UID:10000401-1747069200-1747075500@yoga.org.mx
SUMMARY:Taller de Yoga para la Mujer
DESCRIPTION:El cuerpo del hombre y la mujer son diferentes\, muchas veces se enseña yoga igual a cualquier género. Sin embargo\, conforme hombres y mujeres avanzan y profundizan en su práctica notan que deben enfatizar ciertos aspectos del trabajo físico y cuidar el cómo hacer yoga de forma particular a su propio cuerpo. \nEste taller aportará útiles elementos para una mejor práctica del Yoga enfocado a las características particulares del cuerpo de la mujer. \nAbierto a mujeres con cualquier nivel de experiencia.
URL:https://yoga.org.mx/calendario/taller-de-yoga-para-la-mujer/
LOCATION:Centro Budista Roma\, Jalapa 94\, CDMX\, CDMX\, 06700\, Mexico
CATEGORIES:Actividades Destacadas,Talleres Especiales
ATTACH;FMTTYPE=image/jpeg:https://yoga.org.mx/wp-content/uploads/2025/04/yoga-002b.jpg
ORGANIZER;CN="Centro Budista Roma":MAILTO:contacto@budismo.com
END:VEVENT
BEGIN:VEVENT
DTSTART;TZID=America/Mexico_City:20250517T030000
DTEND;TZID=America/Mexico_City:20250517T030000
DTSTAMP:20260421T123758
CREATED:20250405T013039Z
LAST-MODIFIED:20250405T013039Z
UID:10000403-1747450800-1747450800@yoga.org.mx
SUMMARY:Sesiones especiales de Yoga Restaurativa
DESCRIPTION:En estas sesiones de yoga restaurativo\, nos embarcamos en un recorrido a través del cuerpo para lograr relajación y reconexión. \nRecorreremos diferentes posturas que nos ayuden a anclarnos a la tierra\, suavizando las tensiones desde los pies hasta la pelvis\, nutriendo la estabilidad y arraigo. Posturas de apertura del corazón y los hombros\, liberando cargas emocionales y físicas\, abriendo el pecho hacia la expansión y la libertad. Ademas de sumergirnos en la relajación profunda\, integrando todas las áreas del cuerpo\, permitiendo que la calma y la restauración se extiendan por todo nuestro ser. \n*Puedes tomar el paquete de 2 sesiones o asistir por sesión. \nAbierto a todo público.
URL:https://yoga.org.mx/calendario/sesiones-especiales-de-yoga-restaurativa/
LOCATION:Centro Budista Roma\, Jalapa 94\, CDMX\, CDMX\, 06700\, Mexico
CATEGORIES:Yoga Restaurativa
ATTACH;FMTTYPE=image/jpeg:https://yoga.org.mx/wp-content/uploads/2025/03/yoga-restaurativa-002b.jpg
ORGANIZER;CN="Centro Budista Roma":MAILTO:contacto@budismo.com
END:VEVENT
BEGIN:VEVENT
DTSTART;TZID=America/Mexico_City:20250521T190000
DTEND;TZID=America/Mexico_City:20250521T190000
DTSTAMP:20260421T123758
CREATED:20250405T014112Z
LAST-MODIFIED:20250405T014112Z
UID:10000404-1747854000-1747854000@yoga.org.mx
SUMMARY:Curso de Yoga para Principiantes
DESCRIPTION:Dirigido a personas nuevas o relativamente nuevas al Hatha Yoga\, así como a maestros que quieran aprender este método. Se verá de forma completa la alineación del cuerpo\, lo que permitirá que las Asanas se experimenten de manera más profunda. \nEste curso permitirá crear una práctica personal de esta disciplina. Se explorará la relación entre la atención consciente\, la energía concentrada y el esfuerzo dirigido. Estos cursos son completamente prácticos. \nEste curso es completamente práctico. \nAbierto a personas con o sin experiencia en la práctica de Yoga.
URL:https://yoga.org.mx/calendario/curso-de-yoga-para-principiantes-25/
LOCATION:Centro Budista Roma\, Jalapa 94\, CDMX\, CDMX\, 06700\, Mexico
CATEGORIES:Yoga para Principiantes
ATTACH;FMTTYPE=image/jpeg:https://yoga.org.mx/wp-content/uploads/2024/04/taller-yoga-cuidado-lumbares-01b.jpg
ORGANIZER;CN="Centro Budista Roma":MAILTO:contacto@budismo.com
END:VEVENT
BEGIN:VEVENT
DTSTART;TZID=America/Mexico_City:20250531T140000
DTEND;TZID=America/Mexico_City:20250531T140000
DTSTAMP:20260421T123758
CREATED:20250405T015621Z
LAST-MODIFIED:20250527T234918Z
UID:10000405-1748700000-1748700000@yoga.org.mx
SUMMARY:Curso de Yoga para Principiantes
DESCRIPTION:Dirigido a personas nuevas o relativamente nuevas al Hatha Yoga\, así como a maestros que quieran aprender este método. Se verá de forma completa la alineación del cuerpo\, lo que permitirá que las Asanas se experimenten de manera más profunda. \nEste curso permitirá crear una práctica personal de esta disciplina. Se explorará la relación entre la atención consciente\, la energía concentrada y el esfuerzo dirigido. Estos cursos son completamente prácticos. \nEste curso es completamente práctico. \nAbierto a personas con o sin experiencia en la práctica de Yoga.
URL:https://yoga.org.mx/calendario/curso-de-yoga-para-principiantes-26/
LOCATION:Centro Budista Roma\, Jalapa 94\, CDMX\, CDMX\, 06700\, Mexico
CATEGORIES:Yoga para Principiantes
ATTACH;FMTTYPE=image/jpeg:https://yoga.org.mx/wp-content/uploads/2025/04/taller-de-yoga-001b.jpg
ORGANIZER;CN="Centro Budista Roma":MAILTO:contacto@budismo.com
END:VEVENT
END:VCALENDAR