BEGIN:VCALENDAR
VERSION:2.0
PRODID:-//Yoga - ECPv6.5.1.4//NONSGML v1.0//EN
CALSCALE:GREGORIAN
METHOD:PUBLISH
X-WR-CALNAME:Yoga
X-ORIGINAL-URL:https://yoga.org.mx
X-WR-CALDESC:Eventos para Yoga
REFRESH-INTERVAL;VALUE=DURATION:PT1H
X-Robots-Tag:noindex
X-PUBLISHED-TTL:PT1H
BEGIN:VTIMEZONE
TZID:America/Mexico_City
BEGIN:STANDARD
TZOFFSETFROM:-0600
TZOFFSETTO:-0600
TZNAME:CST
DTSTART:20240101T000000
END:STANDARD
END:VTIMEZONE
BEGIN:VEVENT
DTSTART;TZID=America/Mexico_City:20241102T113000
DTEND;TZID=America/Mexico_City:20241102T133000
DTSTAMP:20260422T065437
CREATED:20241003T005152Z
LAST-MODIFIED:20241003T005152Z
UID:10000342-1730547000-1730554200@yoga.org.mx
SUMMARY:Taller especial de Yoga: profundizando en la alineación y el uso de props
DESCRIPTION:En la práctica de Yoga los diferentes apoyos-props (sillas\, bloques\, cinturones y cobijas) al utilizarse correctamente ayudan a mantener más fácilmente el trabajo de las posturas otorgando soporte para el alineamiento correcto. \nEn este taller utlizaremos el cinturón como base y apoyo para hacer las asanas de forma adecuada\, profundizando y logrando los beneficios de cada una de ellas. \nEste taller esta dirigido a personas con cualquier nivel de experiencia.  \nTe pedimos antes de asistir a alguna actividad leer las recomendaciones y protocolos internos\, estos son para protegernos y cuidar todos de nuestra salud. Consúltalas aquí
URL:https://yoga.org.mx/calendario/taller-especial-de-yoga-profundizando-en-la-alineacion-y-el-uso-de-props/
LOCATION:Centro Budista Roma\, Jalapa 94\, CDMX\, CDMX\, 06700\, Mexico
CATEGORIES:Talleres Especiales
ATTACH;FMTTYPE=image/jpeg:https://yoga.org.mx/wp-content/uploads/2022/05/taller-yoga-espalda-hombros-01b.jpg
ORGANIZER;CN="Centro Budista Roma":MAILTO:contacto@budismo.com
END:VEVENT
BEGIN:VEVENT
DTSTART;TZID=America/Mexico_City:20241104T170000
DTEND;TZID=America/Mexico_City:20241104T184500
DTSTAMP:20260422T065438
CREATED:20241003T011816Z
LAST-MODIFIED:20241008T193158Z
UID:10000344-1730739600-1730745900@yoga.org.mx
SUMMARY:Taller especial de Yoga Restaurativa: El cuidado de la espalda
DESCRIPTION:La estructura principal de la espalda es la columna vertebral\, que sostiene el peso del cuerpo humano\, por ello es clave en nuestro estado de salud en general. El Yoga Restaurativo puede proveer alivio a través de posturas ayudando en el tratamiento a mediano plazo de algunos padecimientos de la columna vertebral. \nEn este taller la maestra Wendy nos mostrará como aprender a cuidar nuestra espalda y las posturas que necesitamos para tener una espalda saludable. \nAbierto a todo público
URL:https://yoga.org.mx/calendario/taller-especial-de-yoga-restaurativa-el-cuidado-de-la-espalda-2/
LOCATION:Centro Budista Roma\, Jalapa 94\, CDMX\, CDMX\, 06700\, Mexico
CATEGORIES:Yoga Restaurativa
ATTACH;FMTTYPE=image/jpeg:https://yoga.org.mx/wp-content/uploads/2023/12/yoga-restaurativa-002b.jpg
ORGANIZER;CN="Centro Budista Roma":MAILTO:contacto@budismo.com
END:VEVENT
BEGIN:VEVENT
DTSTART;TZID=America/Mexico_City:20241113T190000
DTEND;TZID=America/Mexico_City:20241113T203000
DTSTAMP:20260422T065438
CREATED:20240726T223825Z
LAST-MODIFIED:20241003T012836Z
UID:10000323-1731524400-1731529800@yoga.org.mx
SUMMARY:Curso de Yoga para Principiantes
DESCRIPTION:Dirigido a personas nuevas o relativamente nuevas al Hatha Yoga\, así como a maestros que quieran aprender este método. Se verá de forma completa la alineación del cuerpo\, lo que permitirá que las Asanas se experimenten de manera más profunda. \nEste curso permitirá crear una práctica personal de esta disciplina. Se explorará la relación entre la atención consciente\, la energía concentrada y el esfuerzo dirigido. Estos cursos son completamente prácticos. \nEste curso es completamente práctico. \nAbierto a personas con o sin experiencia en la práctica de Yoga.
URL:https://yoga.org.mx/calendario/curso-de-yoga-para-principiantes-18/
LOCATION:Centro Budista Roma\, Jalapa 94\, CDMX\, CDMX\, 06700\, Mexico
CATEGORIES:Yoga para Principiantes
ATTACH;FMTTYPE=image/jpeg:https://yoga.org.mx/wp-content/uploads/2022/05/yoga-principiantes-02b.jpg
ORGANIZER;CN="Centro Budista Roma":MAILTO:contacto@budismo.com
END:VEVENT
BEGIN:VEVENT
DTSTART;TZID=America/Mexico_City:20241115T160000
DTEND;TZID=America/Mexico_City:20241115T160000
DTSTAMP:20260422T065438
CREATED:20241003T013343Z
LAST-MODIFIED:20241003T013344Z
UID:10000345-1731686400-1731686400@yoga.org.mx
SUMMARY:Retiro de Meditación: Mindfulness\, una vida con atención plena
DESCRIPTION:Mindfulness o Atención Consciente es la facultad que se cultiva en la meditación para generar concentración serena y consciencia del momento presente. Así mismo Mindfulness es una facultad que se puede desarrollar para contribuir a una vida más plena y profunda restableciendo belleza\, propósito y energía en nuestra vida diaria. \nEn este retiro de Mindfulness\, Meditación y Budismo con un enfoque multifacético aprenderemos herramientas útiles para trabajar con los estados mentales negativos (ansiedad\, estrés y enojo). \nLa rutina del retiro incluye meditación\, charlas\, grupos de discusión\, períodos de silencio\, ceremonias tradicionales budistas\, tiempo libre y otras actividades. \nRetiro abierto a todo público con cualquier nivel de conocimiento. \nEste retiro comenzará el día 15 de noviembre con la cena que se servirá a las 19:00 hrs. (se podrá llegar a partir de las 16:00 hrs.) y culminará el 18 de noviembre después del desayuno. \nEn Quinta “El Zopilote” de Xochitepec\, Morelos\nAbierto a todo público con cualquier nivel de conocimiento. \nLeer más... \nQuinta El Zopilote es un centro de retiros que le ofrecerá todas las atenciones y servicios que desean para su estancia. Cuenta con cómodas habitaciones\, un amplio salón de conferencias y hermosos jardines en los que disfrutará de un ambiente de paz e introspección. \n¿Qué llevar? \nRopa cómoda y sencilla por varios días; incluye algo abrigador\, zapatos de fácil poner y quitar y artículos de baño \n¿Cómo llegar en Automóvil? \nToma la autopista México-Cuernavaca\, pasa la entrada a la ciudad de Cuernavaca y 20 minutos después (ó 15 km aprox.) toma la desviación que indica la salida hacia el Aeropuerto-Tepetzingo\, (justo donde acaba el Tec de Monterrey Campu Cuernavaca). Sigue por dicho camino por otros 100 m pasando la caseta ($10) da vuelta en «U» hacia la izquierda y sigue derecho hasta el primer semáforo (verás una estación de Hidrogas) justo ahí da vuelta a la derecha. Continua derecho por otros aprox. 1.7 km\, pasando el cruce de semáforos continua derecho aprox. otros 2 km en los que encontrarás una curva ligera y otra pronunciada. Una vez saliendo de esa curva en encontrarás la salida a Atlacholoaya\, da vuelta a la derecha. Sigue derecho por el camino por aprox. 2.4 km y pasando una cancha de fútbol verás que el camino se bifurca; toma el lado izquierdo. Inmediatamente después atraviesa el pequeño puente y en la primera esquina da vuelta a la izquierda\, en la siguiente calle de nuevo da vuelta a la izquierda. Aprox. a 400 m de tu lado izquierdo encontrarás Quinta el Zopilote (es un portón de madera y una barda de ladrillo con un letrero pequeño). \n¿Cómo llegar en Autobús? \nIr a la estación de autobuses del sur Taxqueña. Tomar el camión Pullman de Morelos directo al poblado de Chiconcuac (Ojo Chiconcuac\, dentro del municipio de Xochitepec en Morelos\, no el que vende suéteres). Llegando a la estación de Chiconcuac\, Morelos tomar un taxi para Quinta el Zopilote que esta en: Calle San José S/N colonia el calvario\, rumbo a Tlacholuaya.
URL:https://yoga.org.mx/calendario/retiro-de-meditacion-mindfulness-una-vida-con-atencion-plena/
LOCATION:Centro Budista Roma\, Jalapa 94\, CDMX\, CDMX\, 06700\, Mexico
ATTACH;FMTTYPE=image/jpeg:https://yoga.org.mx/wp-content/uploads/2024/10/meditacion-002a.jpg
ORGANIZER;CN="Centro Budista Roma":MAILTO:contacto@budismo.com
END:VEVENT
BEGIN:VEVENT
DTSTART;TZID=America/Mexico_City:20241117T113000
DTEND;TZID=America/Mexico_City:20241117T113000
DTSTAMP:20260422T065438
CREATED:20241003T014236Z
LAST-MODIFIED:20241003T015553Z
UID:10000346-1731843000-1731843000@yoga.org.mx
SUMMARY:Taller de Yoga: Fuerza y Calma\, El Poder Regenerador de Sarvangasana
DESCRIPTION:En la práctica de la Yoga hay posturas que requieren una preparación\, un trabajo y detalle particular\, fortaleciendo ciertas áreas del cuerpo y preparando nuestra mente para la postura. Este trabajo de preparación es importante dentro de la gran gama de posturas que podemos ver en la practica de Yoga\, si cuidamos nuestro cuerpo y entendemos la postura podremos entrar a ella de una manera adecuada disfrutando la postura y obteniendo así sus beneficios completos. \nSarvangasana o la postura de la vela de Yoga está considerada tradicionalmente como «la reina de las posturas». Se trata de una asana de inversión en la que elevamos los pies por encima de la cabeza\, formando una figura de una vela\, al llegar a la postura se estimula la tiroides\, los órganos abdominales\, estirando y fortaleciendo los músculos y varias partes del cuerpo teniendo un beneficio en nuestra salud física. A nivel mental calma las funciones del cerebro y nos ayuda a aliviar el estrés rediciendo la fatiga aportándonos energía. \nEn este taller conocerás las bases y las posturas preparatorias para esta asana. \nSe requiere una práctica mínima de 2 meses.
URL:https://yoga.org.mx/calendario/taller-de-yoga-fuerza-y-calma-el-poder-regenerador-de-sarvangasana/
LOCATION:Centro Budista Roma\, Jalapa 94\, CDMX\, CDMX\, 06700\, Mexico
CATEGORIES:Talleres Especiales
ATTACH;FMTTYPE=image/jpeg:https://yoga.org.mx/wp-content/uploads/2022/06/vela.jpg
ORGANIZER;CN="Centro Budista Roma":MAILTO:contacto@budismo.com
END:VEVENT
BEGIN:VEVENT
DTSTART;TZID=America/Mexico_City:20241118T120000
DTEND;TZID=America/Mexico_City:20241118T140000
DTSTAMP:20260422T065438
CREATED:20241003T203952Z
LAST-MODIFIED:20241008T193840Z
UID:10000347-1731931200-1731938400@yoga.org.mx
SUMMARY:Día de Yogasanas: alineación y fortaleza
DESCRIPTION:La alineación y la fortaleza son dos principios fundamentales y que se enfatizan en la práctica de yoga\, ya que estas nos llevarán a una realización segura y efectiva de las posturas. \nUna buena alineación implica el colocar el cuerpo de manera correcta para evitar tensiones y lesiones\, permitiendo que la energía fluya libremente. Al mismo tiempo\, desarrollar fortaleza es esencial para sostener las posturas con estabilidad y control\, lo que no solo fortalece los músculos\, sino que también mejora la resistencia y el equilibrio. Ambas\, alineación y fortaleza crean una base sólida para avanzar en la práctica\, incrementando tanto la conciencia corporal como la conexión mente-cuerpo. \n \nAbierto a todo público
URL:https://yoga.org.mx/calendario/dia-de-yogasanas-alineacion-y-fortaleza/
LOCATION:Centro Budista Roma\, Jalapa 94\, CDMX\, CDMX\, 06700\, Mexico
CATEGORIES:Talleres Especiales
ATTACH;FMTTYPE=image/jpeg:https://yoga.org.mx/wp-content/uploads/2024/05/taller-de-yoga-004b.jpg
ORGANIZER;CN="Centro Budista Roma":MAILTO:contacto@budismo.com
END:VEVENT
BEGIN:VEVENT
DTSTART;TZID=America/Mexico_City:20241118T170000
DTEND;TZID=America/Mexico_City:20241118T184500
DTSTAMP:20260422T065438
CREATED:20241003T204244Z
LAST-MODIFIED:20241008T193822Z
UID:10000348-1731949200-1731955500@yoga.org.mx
SUMMARY:Taller de Yoga Restaurativa: Cuerpo saludable\, mente en calma
DESCRIPTION:En este taller comenzaremos en un viaje de relajación profunda\, equilibrio y autoconexión\, aprendiendo a liberar el estrés acumulado\, revitalizar nuestra energía e incrementar nuestro bienestar integral. \nEl yoga restaurativo se centra más en el descanso\, la recuperación y la restauración del cuerpo que transmite a la mente una sensación de bienestar general. A través de posturas suaves\, apoyadas por accesorios como almohadas\, cobijas y bloques\, permitiremos que el cuerpo se relaje completamente en cada asana. Esto ayuda a liberar la tensión física y mental\, lo que a su vez mejora nuestra salud en general. \nEn este taller\, experimentaremos: Relajación Profunda\, Respiración Consciente\, Autoconciencia\, Nuestro cuerpo y Bienestar Integral.  \nAbierto a todo público
URL:https://yoga.org.mx/calendario/taller-de-yoga-restaurativa-cuerpo-saludable-mente-en-calma/
LOCATION:Centro Budista Roma\, Jalapa 94\, CDMX\, CDMX\, 06700\, Mexico
CATEGORIES:Yoga Restaurativa
ATTACH;FMTTYPE=image/jpeg:https://yoga.org.mx/wp-content/uploads/2024/02/taller-yoga-10104b.jpg
ORGANIZER;CN="Centro Budista Roma":MAILTO:contacto@budismo.com
END:VEVENT
BEGIN:VEVENT
DTSTART;TZID=America/Mexico_City:20241118T190000
DTEND;TZID=America/Mexico_City:20241118T190000
DTSTAMP:20260422T065438
CREATED:20241003T204854Z
LAST-MODIFIED:20241008T194252Z
UID:10000349-1731956400-1731956400@yoga.org.mx
SUMMARY:Taller especial de Yoga: La fuerza del guerrero
DESCRIPTION:Las posturas del Guerrero son posturas de pie que requieren gran esfuerzo físico por lo que nos llevan a cultivar esta fortaleza pero como todo lo físico se refleja en las actitudes; también nos ayudan a generar fuerza de voluntad\, esa actitud aguerrida que aveces necesitamos para enfrentar los retos de la vida. En este taller estudiaremos y practicaremos estas tres posturas para cultivar estas cualidades. \nAbierto a todo público con cualquier nivel de experiencia.
URL:https://yoga.org.mx/calendario/taller-especial-de-yoga-la-fuerza-del-guerrero/
LOCATION:Centro Budista Roma\, Jalapa 94\, CDMX\, CDMX\, 06700\, Mexico
CATEGORIES:Talleres Especiales
ATTACH;FMTTYPE=image/jpeg:https://yoga.org.mx/wp-content/uploads/2023/09/taller-de-yoga-005b.jpg
ORGANIZER;CN="Centro Budista Roma":MAILTO:contacto@budismo.com
END:VEVENT
BEGIN:VEVENT
DTSTART;TZID=America/Mexico_City:20241125T190000
DTEND;TZID=America/Mexico_City:20241125T190000
DTSTAMP:20260422T065438
CREATED:20241003T205957Z
LAST-MODIFIED:20241003T205957Z
UID:10000350-1732561200-1732561200@yoga.org.mx
SUMMARY:Curso intensivo de Yoga Principiantes
DESCRIPTION:Dirigido a personas nuevas o relativamente nuevas al Hatha Yoga\, así como a maestros que quieran aprender este método. Se verá de forma completa la alineación del cuerpo\, lo que permitirá que las Asanas se experimenten de manera más profunda. \nEste curso permitirá crear una práctica personal de esta disciplina. Se explorará la relación entre la atención consciente\, la energía concentrada y el esfuerzo dirigido. Estos cursos son completamente prácticos. \nEste curso es completamente práctico. \nAbierto a personas con o sin experiencia en la práctica de Yoga.
URL:https://yoga.org.mx/calendario/curso-intensivo-de-yoga-principiantes-8/
LOCATION:Centro Budista Roma\, Jalapa 94\, CDMX\, CDMX\, 06700\, Mexico
CATEGORIES:Yoga para Principiantes
ATTACH;FMTTYPE=image/jpeg:https://yoga.org.mx/wp-content/uploads/2024/07/yoga-007b.jpg
ORGANIZER;CN="Centro Budista Roma":MAILTO:contacto@budismo.com
END:VEVENT
END:VCALENDAR