BEGIN:VCALENDAR
VERSION:2.0
PRODID:-//Yoga - ECPv6.5.1.4//NONSGML v1.0//EN
CALSCALE:GREGORIAN
METHOD:PUBLISH
X-ORIGINAL-URL:https://yoga.org.mx
X-WR-CALDESC:Eventos para Yoga
REFRESH-INTERVAL;VALUE=DURATION:PT1H
X-Robots-Tag:noindex
X-PUBLISHED-TTL:PT1H
BEGIN:VTIMEZONE
TZID:America/Mexico_City
BEGIN:STANDARD
TZOFFSETFROM:-0600
TZOFFSETTO:-0600
TZNAME:CST
DTSTART:20260101T000000
END:STANDARD
END:VTIMEZONE
BEGIN:VEVENT
DTSTART;TZID=America/Mexico_City:20260422T190000
DTEND;TZID=America/Mexico_City:20260422T190000
DTSTAMP:20260421T111412
CREATED:20260307T075557Z
LAST-MODIFIED:20260316T064255Z
UID:10000485-1776884400-1776884400@yoga.org.mx
SUMMARY:Curso de Yoga Principiantes: Cuerpo y Mente en Calma
DESCRIPTION:Dirigido a personas nuevas o relativamente nuevas al Hatha Yoga\, así como a maestros que quieran aprender este método. Se verá de forma completa la alineación del cuerpo\, lo que permitirá que las Asanas se experimenten de manera más profunda. \nEste curso permitirá crear una práctica personal de esta disciplina. Se explorará la relación entre la atención consciente\, la energía concentrada y el esfuerzo dirigido. Este curso es completamente práctico. \nAbierto a personas con o sin experiencia en la práctica de Yoga.
URL:https://yoga.org.mx/calendario/curso-de-yoga-principiantes-cuerpo-y-mente-en-calma-8/
LOCATION:Centro Budista Roma\, Jalapa 94\, CDMX\, CDMX\, 06700\, Mexico
CATEGORIES:Yoga para Principiantes
ATTACH;FMTTYPE=image/jpeg:https://yoga.org.mx/wp-content/uploads/2024/07/yoga-002b.jpg
ORGANIZER;CN="Centro Budista Roma":MAILTO:contacto@budismo.com
END:VEVENT
BEGIN:VEVENT
DTSTART;TZID=America/Mexico_City:20260425T163000
DTEND;TZID=America/Mexico_City:20260425T163000
DTSTAMP:20260421T111412
CREATED:20260307T075840Z
LAST-MODIFIED:20260307T075841Z
UID:10000486-1777134600-1777134600@yoga.org.mx
SUMMARY:Taller de Yoga y Meditación: Presencia y Movimiento
DESCRIPTION:La práctica de la Yoga nos conecta con el cuerpo y las sensaciones\, calmando los pensamientos al llevarnos a habitar el cuerpo. \nLa Meditación nos conecta con nuestras emociones y nuestra conciencia del momento presente\, llevándonos a estados de profunda relajación y conciencia. Combinar estas practicas es una excelente forma para que experimentaremos sus beneficios en el cuerpo y la mente. \nAbierto a todo público con cualquier nivel de experiencia en la Yoga o Meditación
URL:https://yoga.org.mx/calendario/taller-de-yoga-y-meditacion-presencia-y-movimiento/
LOCATION:Centro Budista Roma\, Jalapa 94\, CDMX\, CDMX\, 06700\, Mexico
CATEGORIES:Talleres Especiales
ATTACH;FMTTYPE=image/jpeg:https://yoga.org.mx/wp-content/uploads/2024/04/retido-meditacion-yoga-01a.jpg
ORGANIZER;CN="Centro Budista Roma":MAILTO:contacto@budismo.com
END:VEVENT
BEGIN:VEVENT
DTSTART;TZID=America/Mexico_City:20260427T190000
DTEND;TZID=America/Mexico_City:20260427T190000
DTSTAMP:20260421T111412
CREATED:20260307T080125Z
LAST-MODIFIED:20260307T080130Z
UID:10000487-1777316400-1777316400@yoga.org.mx
SUMMARY:Curso de Yoga Principiantes: Cuerpo y Mente en Calma
DESCRIPTION:Dirigido a personas nuevas o relativamente nuevas al Hatha Yoga\, así como a maestros que quieran aprender este método. Se verá de forma completa la alineación del cuerpo\, lo que permitirá que las Asanas se experimenten de manera más profunda. \nEste curso permitirá crear una práctica personal de esta disciplina. Se explorará la relación entre la atención consciente\, la energía concentrada y el esfuerzo dirigido. Este curso es completamente práctico. \nAbierto a personas con o sin experiencia en la práctica de Yoga.
URL:https://yoga.org.mx/calendario/curso-de-yoga-principiantes-cuerpo-y-mente-en-calma-9/
LOCATION:Centro Budista Roma\, Jalapa 94\, CDMX\, CDMX\, 06700\, Mexico
CATEGORIES:Yoga para Principiantes
ATTACH;FMTTYPE=image/jpeg:https://yoga.org.mx/wp-content/uploads/2025/04/yoga-002b.jpg
ORGANIZER;CN="Centro Budista Roma":MAILTO:contacto@budismo.com
END:VEVENT
BEGIN:VEVENT
DTSTART;TZID=America/Mexico_City:20260430T160000
DTEND;TZID=America/Mexico_City:20260430T160000
DTSTAMP:20260421T111412
CREATED:20260410T065053Z
LAST-MODIFIED:20260410T065053Z
UID:10000488-1777564800-1777564800@yoga.org.mx
SUMMARY:Retiro de Yoga Restaurativa y Meditación
DESCRIPTION:Retiro en el Puente de Mayo. \nHoy en día nos encontramos con personas que tienen tensiones y molestias por estar mucho tiempo sentados en una misma posición\, por trabajar con estrés y por malas posturas en nuestras diferentes actividades que hacen que los músculos del cuerpo se endurezcan\, en especial los de la espalda\, dando como resultado al final del día una jornada laboral pesada y en muchos casos con poco rendimiento. \n\nEste retiro tiene el objetivo de aportar una serie de herramientas prácticas\, a través de posturas de yoga restaurativo y terapéutico junto con meditaciones\, que nos promuevan calma mental ayudando así a restaurar el cuerpo y logrando un bienestar general.\nLa rutina del retiro incluye períodos de yoga\, meditación y tiempo libre así como ceremonias tradicionales budistas.\nAbierto a todo público con cualquier nivel de experiencia.El Costo de Recuperación incluye el hospedaje en habitación compartida\, aliementos Vegetarianos\, enseñanza y materiales. \nEste retiro comenzará el jueves 30 de abril con la cena que se servirá a las 19:00 hrs. (se podrá llegar a partir de las 16:00 hrs.) y culminará el domingo 3 de mayo de 2026\, después del desayuno a las 10:00 hrs. \nCentro de retiros Chintámani\, Yautepec Morelos\nLee más... \nLugar: \nCalle Los Nardos #16\, Col. Diego Ruíz\, Yautepec\, Morelos.\nmapa para descargar: www.retirosbudistas.com/mapa_chintamani.pdf\nTe recomendamos usar la aplicación Waze para buscar la mejor ruta disponible. \nUbicado en el Valle de Cuautla en Yautepec\, Morelos. Es un amplio espacio específicamente construido para retiros budistas\, cuenta con una Gompa (recinto de meditación en Tibetano) una amplia área de comedor\, cuartos espaciosos\, varias palapas\, alberca y un gran jardín. También cuenta con cabaña para retiros solitarios. Éste centro de retiros fue construido por Dharmacharini Saddhajoti con la visión de ser un lugar para retiros budistas de cualquier tradición. \nQué Llevar? \n1. Ropa cómoda y sencilla por varios días; incluye algo abrigador.\n2. Zapatos de fácil poner y quitar.\n3. Artículos de baño. \n¿Cómo Llegar? \nTomando la desviación “Jojutla-Las Estacas”\, exactamente a 5 km (medidos en el kilometraje del coche) está el Hotel “Villas El Trébol”. Pasando el Hotel\, verás un guarda-ganado* en el suelo; da vuelta a la izquierda en esa calle pasando el guarda-ganado. A 200 m sobre esa calle\, verás a tu derecha una barda de piedra y el portón color óxido de Chintámani\, ¡Llegaste! \n*Nota: Un Guarda-ganado es una reja de rieles paralelos\, sobre el suelo (como una alcantarilla grande)\, que impide el paso al ganado. La distancia del guarda-ganado a la calle en la que hay que doblar a la izquierda\, es de unos 80 m. \nSi tienes problemas para llegar al lugar del retiro o necesitas cualquier otra información favor de llamar al Centro Budista de la Ciudad de México: 5525 0086 (principal) / 5525 4023 \nConsulta la carta del alumno y políticas en www.budismo.org.mx/politicas
URL:https://yoga.org.mx/calendario/retiro-de-yoga-restaurativa-y-meditacion-4/
LOCATION:CDMX
CATEGORIES:Retiros
ATTACH;FMTTYPE=image/jpeg:https://yoga.org.mx/wp-content/uploads/2025/08/dharmapriya_4.jpg
ORGANIZER;CN="Centro Budista Roma":MAILTO:contacto@budismo.com
END:VEVENT
BEGIN:VEVENT
DTSTART;TZID=America/Mexico_City:20260501T103000
DTEND;TZID=America/Mexico_City:20260501T103000
DTSTAMP:20260421T111412
CREATED:20260410T065412Z
LAST-MODIFIED:20260410T065413Z
UID:10000489-1777631400-1777631400@yoga.org.mx
SUMMARY:Sesión Especial de Yoga Restaurativa: Descompresión y alivio
DESCRIPTION:Esta sesión esta dirigida a personas con padecimiento de cervicales y/o Columna Vertebrala\, aprenderemos ejercicios que ayuden a relajar y fortalecer los músculos involucrados\, abrir espacio entre las vertebras para liberar los nervios mejorando la alineación para evitar lesiones. \nAbierto a todo público.
URL:https://yoga.org.mx/calendario/sesion-especial-de-yoga-restaurativa-descompresion-y-alivio/
LOCATION:Centro Budista Roma\, Jalapa 94\, CDMX\, CDMX\, 06700\, Mexico
CATEGORIES:Actividades Destacadas,Yoga Restaurativa
ATTACH;FMTTYPE=image/jpeg:https://yoga.org.mx/wp-content/uploads/2025/03/yoga-restaurativa-002b.jpg
ORGANIZER;CN="Centro Budista Roma":MAILTO:contacto@budismo.com
END:VEVENT
BEGIN:VEVENT
DTSTART;TZID=America/Mexico_City:20260501T120000
DTEND;TZID=America/Mexico_City:20260501T120000
DTSTAMP:20260421T111413
CREATED:20260410T070158Z
LAST-MODIFIED:20260410T070158Z
UID:10000490-1777636800-1777636800@yoga.org.mx
SUMMARY:Sesión Especial de Yoga: Fluir con la Respiración\, Ritmo y Presencia
DESCRIPTION:El Yoga es una meditación en movimiento\, en donde a través de contactar con las sensaciones de la respiración en el cuerpo\, nos lleva de forma amable y compasiva a suavizarlo y masajearlo cálidamente\, obteniendo como resultado un cuerpo calmado\, libre de tensión\, de dureza y estrés. \nA travez de una práctica de Yoga y consciente podemos fluir con la respiración y contactar con nuestro cuerpo y respiración. \nEn ésta sesion tendrás la oportunidad de vivir ésta experiencia. \nAbierto a todas las personas con cualquier nivel de conocimiento.
URL:https://yoga.org.mx/calendario/sesion-especial-de-yoga-fluir-con-la-respiracion-ritmo-y-presencia/
LOCATION:Centro Budista Roma\, Jalapa 94\, CDMX\, CDMX\, 06700\, Mexico
CATEGORIES:Actividades Destacadas,Talleres Especiales
ATTACH;FMTTYPE=image/jpeg:https://yoga.org.mx/wp-content/uploads/2024/07/taller-yoga-01.jpg
ORGANIZER;CN="Centro Budista Roma":MAILTO:contacto@budismo.com
END:VEVENT
BEGIN:VEVENT
DTSTART;TZID=America/Mexico_City:20260503T113000
DTEND;TZID=America/Mexico_City:20260503T133000
DTSTAMP:20260421T111413
CREATED:20260410T070524Z
LAST-MODIFIED:20260410T070525Z
UID:10000491-1777807800-1777815000@yoga.org.mx
SUMMARY:Taller Especial de Yoga Restaurativa en Coyoacán: Columna Vertebral
DESCRIPTION:La Columna Vertebral es la estructura principal que sostiene el peso del cuerpo humano\, por ello es clave en nuestro estado de salud en general. Cuando cualquier vértebra se encuentra fuera de posición\, afecta a los músculos y nervios de esa área y también a los órganos internos asociados con ella. Yoga Restaurativa puede ayudarnos a suavizar las tensiones acumuladas y a través del movimiento de las posturas proveer alivio\, asimismo\, ayuda en el tratamiento a mediano plazo de algunos padecimientos de la columna vertebral. \nEste taller especial aprenderás a cuidar tu columna vertebral \nAbierto a todo público
URL:https://yoga.org.mx/calendario/taller-especial-de-yoga-restaurativa-en-coyoacan-columna-vertebral/
LOCATION:Anexo del Centro Budista\, Francisco Sosa 29\, México\, 04100\, Mexico
CATEGORIES:Actividades Destacadas,Yoga Restaurativa
ATTACH;FMTTYPE=image/jpeg:https://yoga.org.mx/wp-content/uploads/2025/07/yoga-006c.jpg
ORGANIZER;CN="Centro Budista Roma":MAILTO:contacto@budismo.com
END:VEVENT
BEGIN:VEVENT
DTSTART;TZID=America/Mexico_City:20260503T120000
DTEND;TZID=America/Mexico_City:20260503T140000
DTSTAMP:20260421T111413
CREATED:20260410T070828Z
LAST-MODIFIED:20260410T070828Z
UID:10000492-1777809600-1777816800@yoga.org.mx
SUMMARY:Taller de Yoga: Volver a la Base\, Estabilidad y Cuerpo
DESCRIPTION:Taller enfocado en fortalecer la base corporal a través de posturas de pie y ejercicios de equilibrio\, desarrollando estabilidad\, alineación y conciencia del apoyo. Se trabajará la conexión con la base del cuerpo y la respiración como soporte\, favoreciendo mayor firmeza física\, concentración y sensación de arraigo. \nAbierto a personas con o sin experiencia.
URL:https://yoga.org.mx/calendario/taller-de-yoga-volver-a-la-base-estabilidad-y-cuerpo/
LOCATION:Centro Budista Roma\, Jalapa 94\, CDMX\, CDMX\, 06700\, Mexico
CATEGORIES:Actividades Destacadas,Talleres Especiales
ATTACH;FMTTYPE=image/jpeg:https://yoga.org.mx/wp-content/uploads/2025/09/taller-de-yoga-001b.jpg
ORGANIZER;CN="Centro Budista Roma":MAILTO:contacto@budismo.com
END:VEVENT
BEGIN:VEVENT
DTSTART;TZID=America/Mexico_City:20260513T190000
DTEND;TZID=America/Mexico_City:20260513T190000
DTSTAMP:20260421T111413
CREATED:20260410T071237Z
LAST-MODIFIED:20260410T071238Z
UID:10000493-1778698800-1778698800@yoga.org.mx
SUMMARY:Curso Online de Mindfulness y las Emociones
DESCRIPTION:En las sesiones de Mindfulness que se lleven a cabo se exploran diversas prácticas de meditación\, donde se aplican aspectos específicos del desarrollo de la atención consciente para aprender con un cambio de hábitos\, estilo de vida y conocimiento de nuestras emociones el promover una relación diferente con la vida diaria y sus altibajos que a veces nos pueden afectar de manera negativa. \nEn este curso se instruye acerca de cómo llevar la práctica formal de mindfulness en la vida cotidiana y cómo aplicar esta facultad de la conciencia para encontrar una vida feliz y Consciente. \nAbierto a todo público.
URL:https://yoga.org.mx/calendario/curso-online-de-mindfulness-y-las-emociones/
LOCATION:CDMX
CATEGORIES:Mindfulness
ATTACH;FMTTYPE=image/jpeg:https://yoga.org.mx/wp-content/uploads/2026/04/meditacion-030d.jpg
ORGANIZER;CN="Centro Budista Roma":MAILTO:contacto@budismo.com
END:VEVENT
BEGIN:VEVENT
DTSTART;TZID=America/Mexico_City:20260516T140000
DTEND;TZID=America/Mexico_City:20260516T140000
DTSTAMP:20260421T111413
CREATED:20260410T071504Z
LAST-MODIFIED:20260410T071505Z
UID:10000494-1778940000-1778940000@yoga.org.mx
SUMMARY:Curso de Yoga Principiantes
DESCRIPTION:Dirigido a personas nuevas o relativamente nuevas al Hatha Yoga\, así como a maestros que quieran aprender este método. Se verá de forma completa la alineación del cuerpo\, lo que permitirá que las Asanas se experimenten de manera más profunda. \nEste curso permitirá crear una práctica personal de esta disciplina. Se explorará la relación entre la atención consciente\, la energía concentrada y el esfuerzo dirigido. Este curso es completamente práctico. \nAbierto a personas con o sin experiencia en la práctica de Yoga.
URL:https://yoga.org.mx/calendario/curso-de-yoga-principiantes-17/
LOCATION:Centro Budista Roma\, Jalapa 94\, CDMX\, CDMX\, 06700\, Mexico
CATEGORIES:Yoga para Principiantes
ATTACH;FMTTYPE=image/jpeg:https://yoga.org.mx/wp-content/uploads/2025/09/taller-de-yoga-005b.jpg
ORGANIZER;CN="Centro Budista Roma":MAILTO:contacto@budismo.com
END:VEVENT
BEGIN:VEVENT
DTSTART;TZID=America/Mexico_City:20260525T170000
DTEND;TZID=America/Mexico_City:20260525T184500
DTSTAMP:20260421T111413
CREATED:20260410T071946Z
LAST-MODIFIED:20260410T071947Z
UID:10000496-1779728400-1779734700@yoga.org.mx
SUMMARY:Taller Especial de Yoga Restaurativo: Alivio del Nervio Ciático
DESCRIPTION:El dolor en las lumbares (espalda baja) es debido a malas posturas\, debilidad muscular producida por poco ejercicio y mucho tiempo sentado\, hernia discal o abultamiento de disco\, el deslizamiento de alguna vértebra (listéis) o la degeneración de los discos vertebrales y pueden dar origen también a la ciática\, debido a la compresión del nervio ciático\, el dolor puede ir desde la zona lumbar pasando por el glúteo hasta la pierna y pie. \nEste taller esta dirigido a personas con padecimiento de lumbares y ciática. En él aprenderemos ejercicios que podrán ayudar a relajar y fortalecer los músculos\, abrir espacio entre las vertebras para liberar los nervios involucrados y mejorar la alineación para evitar futuras lesiones. \nAbierto a todo público
URL:https://yoga.org.mx/calendario/taller-especial-de-yoga-restaurativo-alivio-del-nervio-ciatico/
LOCATION:Centro Budista Roma\, Jalapa 94\, CDMX\, CDMX\, 06700\, Mexico
CATEGORIES:Yoga Restaurativa
ATTACH;FMTTYPE=image/jpeg:https://yoga.org.mx/wp-content/uploads/2025/06/yoga-006b.jpg
ORGANIZER;CN="Centro Budista Roma":MAILTO:contacto@budismo.com
END:VEVENT
BEGIN:VEVENT
DTSTART;TZID=America/Mexico_City:20260527T190000
DTEND;TZID=America/Mexico_City:20260527T190000
DTSTAMP:20260421T111413
CREATED:20260410T071725Z
LAST-MODIFIED:20260410T071725Z
UID:10000495-1779908400-1779908400@yoga.org.mx
SUMMARY:Curso de Yoga Principiantes
DESCRIPTION:Dirigido a personas nuevas o relativamente nuevas al Hatha Yoga\, así como a maestros que quieran aprender este método. Se verá de forma completa la alineación del cuerpo\, lo que permitirá que las Asanas se experimenten de manera más profunda. \nEste curso permitirá crear una práctica personal de esta disciplina. Se explorará la relación entre la atención consciente\, la energía concentrada y el esfuerzo dirigido. Este curso es completamente práctico. \nAbierto a personas con o sin experiencia en la práctica de Yoga.
URL:https://yoga.org.mx/calendario/curso-de-yoga-principiantes-18/
LOCATION:Centro Budista Roma\, Jalapa 94\, CDMX\, CDMX\, 06700\, Mexico
CATEGORIES:Yoga para Principiantes
ATTACH;FMTTYPE=image/jpeg:https://yoga.org.mx/wp-content/uploads/2025/06/yoga-007b.jpg
ORGANIZER;CN="Centro Budista Roma":MAILTO:contacto@budismo.com
END:VEVENT
END:VCALENDAR