BEGIN:VCALENDAR
VERSION:2.0
PRODID:-//Yoga - ECPv6.5.1.4//NONSGML v1.0//EN
CALSCALE:GREGORIAN
METHOD:PUBLISH
X-ORIGINAL-URL:https://yoga.org.mx
X-WR-CALDESC:Eventos para Yoga
REFRESH-INTERVAL;VALUE=DURATION:PT1H
X-Robots-Tag:noindex
X-PUBLISHED-TTL:PT1H
BEGIN:VTIMEZONE
TZID:America/Mexico_City
BEGIN:STANDARD
TZOFFSETFROM:-0600
TZOFFSETTO:-0600
TZNAME:CST
DTSTART:20260101T000000
END:STANDARD
END:VTIMEZONE
BEGIN:VEVENT
DTSTART;TZID=America/Mexico_City:20260313T160000
DTEND;TZID=America/Mexico_City:20260313T160000
DTSTAMP:20260422T141919
CREATED:20260206T064207Z
LAST-MODIFIED:20260211T022427Z
UID:10000471-1773417600-1773417600@yoga.org.mx
SUMMARY:Retiro de Meditación Budista: El Arte de Estar Presente
DESCRIPTION:La Atención Consciente es la facultad que se cultiva en la meditación para generar concentración serena y consciencia del momento presente. Así mismo es una facultad que se puede desarrollar para contribuir a una vida más plena y profunda restableciendo belleza\,propósito y energía en nuestra vida diaria. \nEn este retiro de meditación budista de 3 noches aprenderemos herramientas útiles para trabajar con nuestra experiencia y aprender a vivir en el momento presente. \nLa rutina del retiro incluye meditación\, charlas\, grupos de discusión\, períodos de silencio\, ceremonias tradicionales budistas\, tiempo libre y otras actividades. \nEste retiro comenzará el viernes 13 con la cena que se servirá a las 19:00 hrs. (se podrá llegar a partir de las 16:00 hrs.) y culminará el lunes 16 de marzo de 2026\, después del desayuno a las 10:00 hrs. \nCentro de Retiro Flor y Canto
URL:https://yoga.org.mx/calendario/retiro-de-meditacion-budista-el-arte-de-estar-presente/
CATEGORIES:Retiros
ATTACH;FMTTYPE=image/jpeg:https://yoga.org.mx/wp-content/uploads/2026/02/retiro_budismo.jpg
ORGANIZER;CN="Centro Budista Roma":MAILTO:contacto@budismo.com
END:VEVENT
END:VCALENDAR