BEGIN:VCALENDAR
VERSION:2.0
PRODID:-//Yoga - ECPv6.5.1.4//NONSGML v1.0//EN
CALSCALE:GREGORIAN
METHOD:PUBLISH
X-ORIGINAL-URL:https://yoga.org.mx
X-WR-CALDESC:Eventos para Yoga
REFRESH-INTERVAL;VALUE=DURATION:PT1H
X-Robots-Tag:noindex
X-PUBLISHED-TTL:PT1H
BEGIN:VTIMEZONE
TZID:America/Mexico_City
BEGIN:STANDARD
TZOFFSETFROM:-0600
TZOFFSETTO:-0600
TZNAME:CST
DTSTART:20250101T000000
END:STANDARD
END:VTIMEZONE
BEGIN:VEVENT
DTSTART;TZID=America/Mexico_City:20251031T160000
DTEND;TZID=America/Mexico_City:20251031T160000
DTSTAMP:20260424T132652
CREATED:20250903T021429Z
LAST-MODIFIED:20251023T210342Z
UID:10000447-1761926400-1761926400@yoga.org.mx
SUMMARY:Retiro de Mindfulness y la Muerte en el Budismo
DESCRIPTION:El Libro Tibetano de los Muertos es el texto canónico budista que aborda el tema de la muerte de forma más completa entre todos los textos que existen en el budismo. No sólo describe la forma en que toma lugar el deceso humano sino que explora las manifestaciones de la mente\, las cuales se presentan en este período intermedio entre una vida y la otra\, así como la manifestación de la realidad. \nEn este retiro exploraremos el tema con sesiones de meditación en grupo\, charlas\, grupos de discusión\, períodos de silencio y ceremonias tradicionales Budistas. Todo esto dentro de un entorno natural y tranquilo. \nEste retiro comenzará el día 31 de octubre con la cena que se servirá a las 19:00 hrs. (se podrá llegar a partir de las 16:00 hrs.) y culminará el 3 de noviembre después del desayuno. \nCentro de Espiritualidad Pasionista\, Cuernavaca Morelos
URL:https://yoga.org.mx/calendario/retiro-de-mindfulness-y-la-muerte-en-el-budismo/
LOCATION:Centro Budista Roma\, Jalapa 94\, CDMX\, CDMX\, 06700\, Mexico
CATEGORIES:Actividades Destacadas,Retiros
ATTACH;FMTTYPE=image/jpeg:https://yoga.org.mx/wp-content/uploads/2025/09/retiro-minfulness-muerte-01.jpg
ORGANIZER;CN="Centro Budista Roma":MAILTO:contacto@budismo.com
END:VEVENT
END:VCALENDAR