BEGIN:VCALENDAR
VERSION:2.0
PRODID:-//Yoga - ECPv6.5.1.4//NONSGML v1.0//EN
CALSCALE:GREGORIAN
METHOD:PUBLISH
X-WR-CALNAME:Yoga
X-ORIGINAL-URL:https://yoga.org.mx
X-WR-CALDESC:Eventos para Yoga
REFRESH-INTERVAL;VALUE=DURATION:PT1H
X-Robots-Tag:noindex
X-PUBLISHED-TTL:PT1H
BEGIN:VTIMEZONE
TZID:America/Mexico_City
BEGIN:STANDARD
TZOFFSETFROM:-0600
TZOFFSETTO:-0600
TZNAME:CST
DTSTART:20260101T000000
END:STANDARD
END:VTIMEZONE
BEGIN:VEVENT
DTSTART;TZID=America/Mexico_City:20260501T103000
DTEND;TZID=America/Mexico_City:20260501T103000
DTSTAMP:20260421T110132
CREATED:20260410T065412Z
LAST-MODIFIED:20260410T065413Z
UID:10000489-1777631400-1777631400@yoga.org.mx
SUMMARY:Sesión Especial de Yoga Restaurativa: Descompresión y alivio
DESCRIPTION:Esta sesión esta dirigida a personas con padecimiento de cervicales y/o Columna Vertebrala\, aprenderemos ejercicios que ayuden a relajar y fortalecer los músculos involucrados\, abrir espacio entre las vertebras para liberar los nervios mejorando la alineación para evitar lesiones. \nAbierto a todo público.
URL:https://yoga.org.mx/calendario/sesion-especial-de-yoga-restaurativa-descompresion-y-alivio/
LOCATION:Centro Budista Roma\, Jalapa 94\, CDMX\, CDMX\, 06700\, Mexico
CATEGORIES:Actividades Destacadas,Yoga Restaurativa
ATTACH;FMTTYPE=image/jpeg:https://yoga.org.mx/wp-content/uploads/2025/03/yoga-restaurativa-002b.jpg
ORGANIZER;CN="Centro Budista Roma":MAILTO:contacto@budismo.com
END:VEVENT
BEGIN:VEVENT
DTSTART;TZID=America/Mexico_City:20260501T120000
DTEND;TZID=America/Mexico_City:20260501T120000
DTSTAMP:20260421T110132
CREATED:20260410T070158Z
LAST-MODIFIED:20260410T070158Z
UID:10000490-1777636800-1777636800@yoga.org.mx
SUMMARY:Sesión Especial de Yoga: Fluir con la Respiración\, Ritmo y Presencia
DESCRIPTION:El Yoga es una meditación en movimiento\, en donde a través de contactar con las sensaciones de la respiración en el cuerpo\, nos lleva de forma amable y compasiva a suavizarlo y masajearlo cálidamente\, obteniendo como resultado un cuerpo calmado\, libre de tensión\, de dureza y estrés. \nA travez de una práctica de Yoga y consciente podemos fluir con la respiración y contactar con nuestro cuerpo y respiración. \nEn ésta sesion tendrás la oportunidad de vivir ésta experiencia. \nAbierto a todas las personas con cualquier nivel de conocimiento.
URL:https://yoga.org.mx/calendario/sesion-especial-de-yoga-fluir-con-la-respiracion-ritmo-y-presencia/
LOCATION:Centro Budista Roma\, Jalapa 94\, CDMX\, CDMX\, 06700\, Mexico
CATEGORIES:Actividades Destacadas,Talleres Especiales
ATTACH;FMTTYPE=image/jpeg:https://yoga.org.mx/wp-content/uploads/2024/07/taller-yoga-01.jpg
ORGANIZER;CN="Centro Budista Roma":MAILTO:contacto@budismo.com
END:VEVENT
END:VCALENDAR