BEGIN:VCALENDAR
VERSION:2.0
PRODID:-//Yoga - ECPv6.5.1.4//NONSGML v1.0//EN
CALSCALE:GREGORIAN
METHOD:PUBLISH
X-ORIGINAL-URL:https://yoga.org.mx
X-WR-CALDESC:Eventos para Yoga
REFRESH-INTERVAL;VALUE=DURATION:PT1H
X-Robots-Tag:noindex
X-PUBLISHED-TTL:PT1H
BEGIN:VTIMEZONE
TZID:America/Mexico_City
BEGIN:STANDARD
TZOFFSETFROM:-0600
TZOFFSETTO:-0600
TZNAME:CST
DTSTART:20260101T000000
END:STANDARD
END:VTIMEZONE
BEGIN:VEVENT
DTSTART;TZID=America/Mexico_City:20260425T163000
DTEND;TZID=America/Mexico_City:20260425T163000
DTSTAMP:20260421T110558
CREATED:20260307T075840Z
LAST-MODIFIED:20260307T075841Z
UID:10000486-1777134600-1777134600@yoga.org.mx
SUMMARY:Taller de Yoga y Meditación: Presencia y Movimiento
DESCRIPTION:La práctica de la Yoga nos conecta con el cuerpo y las sensaciones\, calmando los pensamientos al llevarnos a habitar el cuerpo. \nLa Meditación nos conecta con nuestras emociones y nuestra conciencia del momento presente\, llevándonos a estados de profunda relajación y conciencia. Combinar estas practicas es una excelente forma para que experimentaremos sus beneficios en el cuerpo y la mente. \nAbierto a todo público con cualquier nivel de experiencia en la Yoga o Meditación
URL:https://yoga.org.mx/calendario/taller-de-yoga-y-meditacion-presencia-y-movimiento/
LOCATION:Centro Budista Roma\, Jalapa 94\, CDMX\, CDMX\, 06700\, Mexico
CATEGORIES:Talleres Especiales
ATTACH;FMTTYPE=image/jpeg:https://yoga.org.mx/wp-content/uploads/2024/04/retido-meditacion-yoga-01a.jpg
ORGANIZER;CN="Centro Budista Roma":MAILTO:contacto@budismo.com
END:VEVENT
END:VCALENDAR