BEGIN:VCALENDAR
VERSION:2.0
PRODID:-//Yoga - ECPv6.5.1.4//NONSGML v1.0//EN
CALSCALE:GREGORIAN
METHOD:PUBLISH
X-ORIGINAL-URL:https://yoga.org.mx
X-WR-CALDESC:Eventos para Yoga
REFRESH-INTERVAL;VALUE=DURATION:PT1H
X-Robots-Tag:noindex
X-PUBLISHED-TTL:PT1H
BEGIN:VTIMEZONE
TZID:America/Mexico_City
BEGIN:STANDARD
TZOFFSETFROM:-0600
TZOFFSETTO:-0600
TZNAME:CST
DTSTART:20250101T000000
END:STANDARD
END:VTIMEZONE
BEGIN:VEVENT
DTSTART;TZID=America/Mexico_City:20250331T170000
DTEND;TZID=America/Mexico_City:20250331T184500
DTSTAMP:20260421T110605
CREATED:20250212T013324Z
LAST-MODIFIED:20250212T022113Z
UID:10000377-1743440400-1743446700@yoga.org.mx
SUMMARY:Taller Especial de Hatha Yoga para Aliviar Tensiones
DESCRIPTION:Este taller está diseñado para ayudar a liberar las tensiones acumuladas de nuestra vida diaria\, a través de posturas de Hatha Yoga con ejercicios de respiración y lograr generar calma. \nEnfocado en la conexión entre cuerpo y mente\, este taller te ofrece que puedas conocer posturas específicas para reducir la tensión muscular\, mejorar tu postura y fomentar un estado de calma interior\, Ideal para personas con un ritmo de vida acelerado para restablecer el equilibrio y el bienestar general. \nAbierto a todo público con cualquier nivel de experiencia.
URL:https://yoga.org.mx/calendario/taller-especial-de-hatha-yoga-para-aliviar-tensiones/
LOCATION:Centro Budista Roma\, Jalapa 94\, CDMX\, CDMX\, 06700\, Mexico
CATEGORIES:Talleres Especiales
ATTACH;FMTTYPE=image/jpeg:https://yoga.org.mx/wp-content/uploads/2024/07/yoga-008b.jpg
ORGANIZER;CN="Centro Budista Roma":MAILTO:contacto@budismo.com
END:VEVENT
END:VCALENDAR