BEGIN:VCALENDAR
VERSION:2.0
PRODID:-//Yoga - ECPv6.5.1.4//NONSGML v1.0//EN
CALSCALE:GREGORIAN
METHOD:PUBLISH
X-ORIGINAL-URL:https://yoga.org.mx
X-WR-CALDESC:Eventos para Yoga
REFRESH-INTERVAL;VALUE=DURATION:PT1H
X-Robots-Tag:noindex
X-PUBLISHED-TTL:PT1H
BEGIN:VTIMEZONE
TZID:America/Mexico_City
BEGIN:STANDARD
TZOFFSETFROM:-0600
TZOFFSETTO:-0600
TZNAME:CST
DTSTART:20250101T000000
END:STANDARD
END:VTIMEZONE
BEGIN:VEVENT
DTSTART;TZID=America/Mexico_City:20250310T080000
DTEND;TZID=America/Mexico_City:20250310T170000
DTSTAMP:20260421T110908
CREATED:20250311T004055Z
LAST-MODIFIED:20250311T004055Z
UID:10000394-1741593600-1741626000@yoga.org.mx
SUMMARY:Taller Especial de Yoga Restaurativa: Nervio Vago
DESCRIPTION:El nervio vago forma parte de los doce pares craneales de nuestro sistema nervioso\, este ayuda a regular una serie de funciones necesarias para mantener la homeostasis (equilibrio) en el organismo. \nCuando existe una desregulación del nervio vago entre su rama dorsal\, ventral y la cadena simpática\, se experimentan una serie de estados emocionales y fisiológicos alterados que pueden ir de los estados de híper activación (estrés crónico\, irritabilidad\, ansiedad\, etc.) hasta estados de hipo activación (depresión\, desconexión\, baja energía). \nUna de las principales funciones del nervio vago es la de apoyar los estados de calma\, de facilitar el descanso y la relajación. \nEn este taller se abordarán diferentes posturas restaurativas que contribuyen a regular la función del nervio vago a través de masajes\, respiración y otras estrategias prácticas y sencillas que pueden aplicarse en la vida cotidiana. \nAbierto a todo público
URL:https://yoga.org.mx/calendario/taller-especial-de-yoga-restaurativa-nervio-vago/
LOCATION:Centro Budista Roma\, Jalapa 94\, CDMX\, CDMX\, 06700\, Mexico
CATEGORIES:Actividades Destacadas,Talleres Especiales
ATTACH;FMTTYPE=image/jpeg:https://yoga.org.mx/wp-content/uploads/2024/07/yoga-002b.jpg
ORGANIZER;CN="Centro Budista Roma":MAILTO:contacto@budismo.com
END:VEVENT
BEGIN:VEVENT
DTSTART;TZID=America/Mexico_City:20250310T170000
DTEND;TZID=America/Mexico_City:20250310T184500
DTSTAMP:20260421T110908
CREATED:20250212T021426Z
LAST-MODIFIED:20250212T021426Z
UID:10000383-1741626000-1741632300@yoga.org.mx
SUMMARY:Taller de Yoga Restaurativa: El Cuidado de tus Cervicales y hombros
DESCRIPTION:Hoy en día en las clases de Yoga se encuentran más alumnos que tienen tensiones por estar mucho tiempo sentados en la oficina o en la casa en un misma posición durante horas; la poca movilidad\, el sedentarismo y malas posturas hacen que los músculos del cuerpo se endurezcan\, en especial los hombros\, generando estrés y al final del día\, una jornada laboral pesada y en muchos casos con poco rendimiento. \nEste taller se enfocará en un trabajo restaurativo para los hombros que pueda servirnos para aliviar la tensión acumulada\, ayudándonos esta practica también a la movilidad del cuello y espalda\, y permitiéndonos incrementar nuestra salud y bienestar.  \nAbierto a todo público con cualquier nivel de experiencia
URL:https://yoga.org.mx/calendario/taller-de-yoga-restaurativa-el-cuidado-de-tus-cervicales-y-hombros/
LOCATION:Centro Budista Roma\, Jalapa 94\, CDMX\, CDMX\, 06700\, Mexico
CATEGORIES:Talleres Especiales
ATTACH;FMTTYPE=image/jpeg:https://yoga.org.mx/wp-content/uploads/2023/09/taller-de-yoga-002b.jpg
ORGANIZER;CN="Centro Budista Roma":MAILTO:contacto@budismo.com
END:VEVENT
END:VCALENDAR