BEGIN:VCALENDAR
VERSION:2.0
PRODID:-//Yoga - ECPv6.5.1.4//NONSGML v1.0//EN
CALSCALE:GREGORIAN
METHOD:PUBLISH
X-ORIGINAL-URL:https://yoga.org.mx
X-WR-CALDESC:Eventos para Yoga
REFRESH-INTERVAL;VALUE=DURATION:PT1H
X-Robots-Tag:noindex
X-PUBLISHED-TTL:PT1H
BEGIN:VTIMEZONE
TZID:America/Mexico_City
BEGIN:STANDARD
TZOFFSETFROM:-0600
TZOFFSETTO:-0600
TZNAME:CST
DTSTART:20250101T000000
END:STANDARD
END:VTIMEZONE
BEGIN:VEVENT
DTSTART;TZID=America/Mexico_City:20250105T113000
DTEND;TZID=America/Mexico_City:20250105T133000
DTSTAMP:20260421T074306
CREATED:20241129T201554Z
LAST-MODIFIED:20241203T000514Z
UID:10000360-1736076600-1736083800@yoga.org.mx
SUMMARY:Taller especial de Yoga Restaurativo: Yoga para reforzar la salud
DESCRIPTION:Comenzaremos el año con con un taller restaurativo\, además de relajar el cuerpo y regular el sistema nervioso será un gran apoyo para nuestro sistema linfático que es el responsable de la regulación de la función inmune\, la inflamación\, el metabolismo del agua y la desintoxicación. \nEsta práctica incorpora técnicas linfáticas\, pranayama\, acupresión\, y liberación miofascial con posturas restaurativas para ayudar a apoyar estos sistemas importantes y que son tan cruciales para optimizar tu salud interna. \nAbierto a todo público
URL:https://yoga.org.mx/calendario/yoga-para-para-reforzar-la-salud-estimulacion-linfatica/
LOCATION:Centro Budista Roma\, Jalapa 94\, CDMX\, CDMX\, 06700\, Mexico
CATEGORIES:Yoga Restaurativa
ATTACH;FMTTYPE=image/jpeg:https://yoga.org.mx/wp-content/uploads/2024/05/dia-del-yga-01b.jpg
ORGANIZER;CN="Centro Budista Roma":MAILTO:contacto@budismo.com
END:VEVENT
END:VCALENDAR