BEGIN:VCALENDAR
VERSION:2.0
PRODID:-//Yoga - ECPv6.5.1.4//NONSGML v1.0//EN
CALSCALE:GREGORIAN
METHOD:PUBLISH
X-WR-CALNAME:Yoga
X-ORIGINAL-URL:https://yoga.org.mx
X-WR-CALDESC:Eventos para Yoga
REFRESH-INTERVAL;VALUE=DURATION:PT1H
X-Robots-Tag:noindex
X-PUBLISHED-TTL:PT1H
BEGIN:VTIMEZONE
TZID:America/Mexico_City
BEGIN:STANDARD
TZOFFSETFROM:-0600
TZOFFSETTO:-0600
TZNAME:CST
DTSTART:20240101T000000
END:STANDARD
END:VTIMEZONE
BEGIN:VEVENT
DTSTART;TZID=America/Mexico_City:20241117T113000
DTEND;TZID=America/Mexico_City:20241117T113000
DTSTAMP:20260422T103344
CREATED:20241003T014236Z
LAST-MODIFIED:20241003T015553Z
UID:10000346-1731843000-1731843000@yoga.org.mx
SUMMARY:Taller de Yoga: Fuerza y Calma\, El Poder Regenerador de Sarvangasana
DESCRIPTION:En la práctica de la Yoga hay posturas que requieren una preparación\, un trabajo y detalle particular\, fortaleciendo ciertas áreas del cuerpo y preparando nuestra mente para la postura. Este trabajo de preparación es importante dentro de la gran gama de posturas que podemos ver en la practica de Yoga\, si cuidamos nuestro cuerpo y entendemos la postura podremos entrar a ella de una manera adecuada disfrutando la postura y obteniendo así sus beneficios completos. \nSarvangasana o la postura de la vela de Yoga está considerada tradicionalmente como «la reina de las posturas». Se trata de una asana de inversión en la que elevamos los pies por encima de la cabeza\, formando una figura de una vela\, al llegar a la postura se estimula la tiroides\, los órganos abdominales\, estirando y fortaleciendo los músculos y varias partes del cuerpo teniendo un beneficio en nuestra salud física. A nivel mental calma las funciones del cerebro y nos ayuda a aliviar el estrés rediciendo la fatiga aportándonos energía. \nEn este taller conocerás las bases y las posturas preparatorias para esta asana. \nSe requiere una práctica mínima de 2 meses.
URL:https://yoga.org.mx/calendario/taller-de-yoga-fuerza-y-calma-el-poder-regenerador-de-sarvangasana/
LOCATION:Centro Budista Roma\, Jalapa 94\, CDMX\, CDMX\, 06700\, Mexico
CATEGORIES:Talleres Especiales
ATTACH;FMTTYPE=image/jpeg:https://yoga.org.mx/wp-content/uploads/2022/06/vela.jpg
ORGANIZER;CN="Centro Budista Roma":MAILTO:contacto@budismo.com
END:VEVENT
END:VCALENDAR